Workbook

Sheet Instructions
A2: LOYOLA UNIVERSITY CHICAGO
A3: ACADEMIC AFFAIRS - PROGRAM DEVELOPMENT
A4: BUDGET TEMPLATE INSTRUCTIONS
A9: The "Budget Development Template" is meant to serve as a platform guide for users to prepare a "Five Year Business Plan". The goal of providing users with this standard
A10: template is to help them prepare the financial projections and understand the total budget impact in terms of revenues & expenses related to each new program proposal.
A11: The "Five Year Business Plan" should also include a summarized narrative underlying assumptions used in the budget preparation.
A13: Budget Development Completion Process
A14: Step 1
A15: Revenue Detail Tab - requires information on enrollment by semester/class/year, and pricing (number of credits per class, dollar amount per credit hour, fees per student and
A16: funded scholarship requests).
A17: * For existing programs that require modification, start under "Current Fiscal Year"
A18: > Enter current enrollment, credit hours per class, dollar amount per credit hour, total fees per student and funded scholarships request
... A52: Summary II Tab - provides a five year projection of total enrollment, revenue, and expense related to the program development proposal.

Sheet Summary I - Incremental Rev&Exp
A2: LOYOLA UNIVERSITY CHICAGO
A3: ACADEMIC AFFAIRS - PROGRAM DEVELOPMENT
A4: FIVE YEAR BUSINESS PLAN - TOTAL INCREMENTAL REVENUE & EXPENSE
A5: SUMMARY I
A7: Program Name | P7: Notes / Assumptions
D8: FY 1 | F8: FY 2 | H8: FY 3 | J8: FY 4 | L8: FY 5 | N8: 5 Year Total
A9: Incremental Enrollment Projection
B10: Additional Full Time Students | D10: ='Revenue Detail'!Y25 -> 0 | F10: ='Revenue Detail'!$AS$25 -> 0 | H10: ='Revenue Detail'!$BM$25 -> 0 | J10: ='Revenue Detail'!$CG$25 -> 0 | L10: ='Revenue Detail'!$DA$25 -> 0 | N10: =SUM(D10:L10) -> 0
B11: Additional Part Time Students | D11: ='Revenue Detail'!Y42 -> 0 | F11: ='Revenue Detail'!$AS$42 -> 0 | H11: ='Revenue Detail'!$BM$42 -> 0 | J11: ='Revenue Detail'!$CG$42 -> 0 | L11: ='Revenue Detail'!$DA$42 -> 0 | N11: =SUM(D11:L11) -> 0
B12: Additional Graduate Students | D12: ='Revenue Detail'!Y55 -> 0 | F12: ='Revenue Detail'!$AS$55 -> 0 | H12: ='Revenue Detail'!$BM$55 -> 0 | J12: ='Revenue Detail'!$CG$55 -> 0 | L12: ='Revenue Detail'!$DA$55 -> 0 | N12: =SUM(D12:L12) -> 0
B13: Certificate Students | D13: ='Revenue Detail'!Y69 -> 0 | F13: ='Revenue Detail'!AS69 -> 0 | H13: ='Revenue Detail'!BM69 -> 0 | J13: ='Revenue Detail'!CG69 -> 0 | L13: ='Revenue Detail'!DA69 -> 0 | N13: =SUM(D13:L13) -> 0
B14: J-Term Students | D14: ='Revenue Detail'!Y73 -> 0 | F14: ='Revenue Detail'!$AS$73 -> 0 | H14: ='Revenue Detail'!$BM$73 -> 0 | J14: ='Revenue Detail'!$CG$73 -> 0 | L14: ='Revenue Detail'!$DA$73 -> 0 | N14: =SUM(D14:L14) -> 0
B15: Summer Students | D15: ='Revenue Detail'!Y78 -> 0 | F15: ='Revenue Detail'!$AS$78 -> 0 | H15: ='Revenue Detail'!$BM$78 -> 0 | J15: ='Revenue Detail'!$CG$78 -> 0 | L15: ='Revenue Detail'!$DA$78 -> 0 | N15: =SUM(D15:L15) -> 0
A16: Total Incremental Students | D16: =SUM(D10:D15) -> 0 | F16: =SUM(F10:F15) -> 0 | H16: =SUM(H10:H15) -> 0 | J16: =SUM(J10:J15) -> 0 | L16: =SUM(L10:L15) -> 0 | N16: =SUM(N10:N15) -> 0
A18: Incremental Revenues
A19: Tuition and Fees
B20: Undergraduate Tuition - FT | D20: ='Revenue Detail'!$AB$25 -> 0 | F20: ='Revenue Detail'!$AV$25 -> 0 | H20: ='Revenue Detail'!$BP$25 -> 0 | J20: ='Revenue Detail'!$CJ$25 -> 0 | L20: ='Revenue Detail'!$DD$25 -> 0 | N20: =SUM(D20:L20) -> 0
B21: Undergraduate Tuition - PT | D21: ='Revenue Detail'!$AB$42 -> 0 | F21: ='Revenue Detail'!$AV$42 -> 0 | H21: ='Revenue Detail'!$BP$42 -> 0 | J21: ='Revenue Detail'!$CJ$42 -> 0 | L21: ='Revenue Detail'!$DD$42 -> 0 | N21: =SUM(D21:L21) -> 0
B22: Graduate Tuition | D22: ='Revenue Detail'!$AB$55 -> 0 | F22: ='Revenue Detail'!$AV$55 -> 0 | H22: ='Revenue Detail'!$BP$55 -> 0 | J22: ='Revenue Detail'!$CJ$55 -> 0 | L22: ='Revenue Detail'!$DD$55 -> 0 | N22: =SUM(D22:L22) -> 0
B23: Certificate Tuition | D23: ='Revenue Detail'!$AB$69 -> 0 | F23: ='Revenue Detail'!$AV$69 -> 0 | H23: ='Revenue Detail'!$BP$69 -> 0 | J23: ='Revenue Detail'!$CJ$69 -> 0 | L23: ='Revenue Detail'!$DD$69 -> 0 | N23: =SUM(D23:L23) -> 0
B24: J-Term | D24: ='Revenue Detail'!$AB$73 -> 0 | F24: ='Revenue Detail'!$AV$73 -> 0 | H24: ='Revenue Detail'!$BP$73 -> 0 | J24: ='Revenue Detail'!$CJ$73 -> 0 | L24: ='Revenue Detail'!$DD$73 -> 0 | N24: =SUM(D24:L24) -> 0
B25: Summer Tuition | D25: ='Revenue Detail'!$AB$78 -> 0 | F25: ='Revenue Detail'!$AV$78 -> 0 | H25: ='Revenue Detail'!$BP$78 -> 0 | J25: ='Revenue Detail'!$CJ$78 -> 0 | L25: ='Revenue Detail'!$DD$78 -> 0 | N25: =SUM(D25:L25) -> 0
B26: Fees | D26: ='Revenue Detail'!$AC$88 -> 0 | F26: ='Revenue Detail'!$AW$88 -> 0 | H26: ='Revenue Detail'!$BQ$88 -> 0 | J26: ='Revenue Detail'!$CK$88 -> 0 | L26: ='Revenue Detail'!$DE$88 -> 0 | N26: =SUM(D26:L26) -> 0
B27: Adj. for Attrition (if applicable) | D27: ='Revenue Detail'!AF88 -> 0 | F27: ='Revenue Detail'!AZ88 -> 0 | H27: ='Revenue Detail'!BT88 -> 0 | J27: ='Revenue Detail'!CN88 -> 0 | L27: ='Revenue Detail'!DH88 -> 0 | N27: =SUM(D27:L27) -> 0
B28: Other Income | N28: =SUM(D28:L28) -> 0
A29: Total Incremental Tuition and Fees | D29: =SUM(D20:D28) -> 0 | F29: =SUM(F20:F28) -> 0 | H29: =SUM(H20:H28) -> 0 | J29: =SUM(J20:J28) -> 0 | L29: =SUM(L20:L28) -> 0 | N29: =SUM(N20:N28) -> 0
A31: Incremental Funded Scholarship Requests
B32: Undergraduate | D32: ='Revenue Detail'!AD25+'Revenue Detail'!AD42+'Revenue Detail'!AD69+'Revenue Detail'!AD73+'Revenue Detail'!AD78 -> 0 | F32: ='Revenue Detail'!AX25+'Revenue Detail'!AX42+'Revenue Detail'!AX69+'Revenue Detail'!AX73+'Revenue Detail'!AX78 -> 0 | H32: ='Revenue Detail'!BR25+'Revenue Detail'!BR42+'Revenue Detail'!BR69+'Revenue Detail'!BR73+'Revenue Detail'!BR78 -> 0 | J32: ='Revenue Detail'!CL25+'Revenue Detail'!CL42+'Revenue Detail'!CL42+'Revenue Detail'!CL73+'Revenue Detail'!CL78 -> 0 | L32: ='Revenue Detail'!DF25+'Revenue Detail'!DF42+'Revenue Detail'!DF69+'Revenue Detail'!DF73+'Revenue Detail'!DF78 -> 0 | N32: =D32+F32+H32+J32+L32 -> 0
B33: Graduate | D33: ='Revenue Detail'!$AD$55 -> 0 | F33: ='Revenue Detail'!$AX$55 -> 0 | H33: ='Revenue Detail'!$BR$55 -> 0 | J33: ='Revenue Detail'!$CL$55 -> 0 | L33: ='Revenue Detail'!$DF$55 -> 0 | N33: =D33+F33+H33+J33+L33 -> 0
B34: Other Scholarships | N34: =D34+F34+H34+J34+L34 -> 0
B35: Total Scholarships* | D35: =SUM(D32:D34) -> 0 | F35: =SUM(F32:F34) -> 0 | H35: =SUM(H32:H34) -> 0 | J35: =SUM(J32:J34) -> 0 | L35: =SUM(L32:L34) -> 0 | N35: =SUM(N32:N34) -> 0
A37: Total Net Revenues | D37: =D29-D35 -> 0 | F37: =F29-F35 -> 0 | H37: =H29-H35 -> 0 | J37: =J29-J35 -> 0 | L37: =L29-L35 -> 0 | N37: =N29-N35 -> 0
A39: Incremental Expenses
A40: Salary and Benefit Expense
B41: Full Time Faculty | D41: ='Salary Detail'!$N$26 -> 0 | F41: ='Salary Detail'!$X$26 -> 0 | H41: ='Salary Detail'!$AH$26 -> 0 | J41: ='Salary Detail'!$AR$26 -> 0 | L41: ='Salary Detail'!$BB$26 -> 0 | N41: =SUM(D41:L41) -> 0
B42: Part Time Faculty | D42: ='Salary Detail'!$N$43 -> 0 | F42: ='Salary Detail'!$X$43 -> 0 | H42: ='Salary Detail'!$AH$43 -> 0 | J42: ='Salary Detail'!$AR$43 -> 0 | L42: ='Salary Detail'!$BB$43 -> 0 | N42: =SUM(D42:L42) -> 0
B43: Full Time Staff | D43: ='Salary Detail'!$N$60 -> 0 | F43: ='Salary Detail'!$X$60 -> 0 | H43: ='Salary Detail'!$AH$60 -> 0 | J43: ='Salary Detail'!$AR$60 -> 0 | L43: ='Salary Detail'!$BB$60 -> 0 | N43: =SUM(D43:L43) -> 0
B44: Part Time Staff | D44: ='Salary Detail'!$N$78 -> 0 | F44: ='Salary Detail'!$X$78 -> 0 | H44: ='Salary Detail'!$AH$78 -> 0 | J44: ='Salary Detail'!$AR$78 -> 0 | L44: ='Salary Detail'!$BB$78 -> 0 | N44: =SUM(D44:L44) -> 0
B45: Supplemental Salary | D45: ='Salary Detail'!$N$96 -> 0 | F45: ='Salary Detail'!$X$96 -> 0 | H45: ='Salary Detail'!$AH$96 -> 0 | J45: ='Salary Detail'!$AR$96 -> 0 | L45: ='Salary Detail'!$BB$96 -> 0 | N45: =SUM(D45:L45) -> 0
B46: Grad Student Stipend | D46: ='Salary Detail'!$N$114 -> 0 | F46: ='Salary Detail'!$X$114 -> 0 | H46: ='Salary Detail'!$AH$114 -> 0 | J46: ='Salary Detail'!$AR$114 -> 0 | L46: ='Salary Detail'!$BB$114 -> 0 | N46: =SUM(D46:L46) -> 0
...

Sheet Summary II Total Rev & Exp 
A2: LOYOLA UNIVERSITY CHICAGO
A3: ACADEMIC AFFAIRS - PROGRAM DEVELOPMENT
A4: FIVE YEAR BUSINESS PLAN - TOTAL REVENUE & EXPENSE
A5: SUMMARY II
A7: Program Name | P7: Notes / Assumptions
D8: FY 1 | F8: FY 2 | H8: FY 3 | J8: FY 4 | L8: FY 5 | N8: 5 Year Total
A9: Total Enrollment Projection
B10: Full Time Students | D10: ='Revenue Detail'!N25 -> 0 | F10: ='Revenue Detail'!$AH$25 -> 0 | H10: ='Revenue Detail'!$BB$25 -> 0 | J10: ='Revenue Detail'!$BV$25 -> 0 | L10: ='Revenue Detail'!$CP$25 -> 0 | N10: =SUM(D10:L10) -> 0
B11: Part Time Students | D11: ='Revenue Detail'!N42 -> 0 | F11: ='Revenue Detail'!$AH$42 -> 0 | H11: ='Revenue Detail'!$BB$42 -> 0 | J11: ='Revenue Detail'!$BV$42 -> 0 | L11: ='Revenue Detail'!$CP$42 -> 0 | N11: =SUM(D11:L11) -> 0
B12: Graduate Students | D12: ='Revenue Detail'!N55 -> 0 | F12: ='Revenue Detail'!$AH$55 -> 0 | H12: ='Revenue Detail'!$BB$55 -> 0 | J12: ='Revenue Detail'!$BV$55 -> 0 | L12: ='Revenue Detail'!$CP$55 -> 0 | N12: =SUM(D12:L12) -> 0
B13: Certificate Students | D13: ='Revenue Detail'!N69 -> 0 | F13: ='Revenue Detail'!$AH$69 -> 0 | H13: ='Revenue Detail'!$BB$69 -> 0 | J13: ='Revenue Detail'!$BV$69 -> 0 | L13: ='Revenue Detail'!$CP$69 -> 0 | N13: =SUM(D13:L13) -> 0
B14: J-Term Students | D14: ='Revenue Detail'!N73 -> 0 | F14: ='Revenue Detail'!$AH$73 -> 0 | H14: ='Revenue Detail'!$BB$73 -> 0 | J14: ='Revenue Detail'!$BV$73 -> 0 | L14: ='Revenue Detail'!$CP$73 -> 0 | N14: =SUM(D14:L14) -> 0
B15: Summer Students | D15: ='Revenue Detail'!N78 -> 0 | F15: ='Revenue Detail'!$AH$78 -> 0 | H15: ='Revenue Detail'!$BB$78 -> 0 | J15: ='Revenue Detail'!$BV$78 -> 0 | L15: ='Revenue Detail'!$CP$78 -> 0 | N15: =SUM(D15:L15) -> 0
A16: Total Total Students | D16: =SUM(D10:D15) -> 0 | F16: =SUM(F10:F15) -> 0 | H16: =SUM(H10:H15) -> 0 | J16: =SUM(J10:J15) -> 0 | L16: =SUM(L10:L15) -> 0 | N16: =SUM(N10:N15) -> 0
A18: Total Revenues
A19: Tuition and Fees
B20: Undergraduate Tuition - FT | D20: ='Revenue Detail'!$Q$25 -> 0 | F20: ='Revenue Detail'!$AK$25 -> 0 | H20: ='Revenue Detail'!$BE$25 -> 0 | J20: ='Revenue Detail'!$BY$25 -> 0 | L20: ='Revenue Detail'!$CS$25 -> 0 | N20: =SUM(D20:L20) -> 0
B21: Undergraduate Tuition - PT | D21: ='Revenue Detail'!$Q$42 -> 0 | F21: ='Revenue Detail'!$AK$42 -> 0 | H21: ='Revenue Detail'!$BE$42 -> 0 | J21: ='Revenue Detail'!$BY$42 -> 0 | L21: ='Revenue Detail'!$CS$42 -> 0 | N21: =SUM(D21:L21) -> 0
B22: Graduate Tuition | D22: ='Revenue Detail'!$Q$55 -> 0 | F22: ='Revenue Detail'!$AK$55 -> 0 | H22: ='Revenue Detail'!$BE$55 -> 0 | J22: ='Revenue Detail'!$BY$55 -> 0 | L22: ='Revenue Detail'!$CS$55 -> 0 | N22: =SUM(D22:L22) -> 0
B23: Certificate Tuition | D23: ='Revenue Detail'!Q69 -> 0 | F23: ='Revenue Detail'!AK69 -> 0 | H23: ='Revenue Detail'!BE69 -> 0 | J23: ='Revenue Detail'!BY69 -> 0 | L23: ='Revenue Detail'!CS69 -> 0 | N23: =SUM(D23:L23) -> 0
B24: J-Term | D24: ='Revenue Detail'!$Q$73 -> 0 | F24: ='Revenue Detail'!$AK$73 -> 0 | H24: ='Revenue Detail'!$BE$73 -> 0 | J24: ='Revenue Detail'!$BY$73 -> 0 | L24: ='Revenue Detail'!$CS$73 -> 0 | N24: =SUM(D24:L24) -> 0
B25: Summer Tuition | D25: ='Revenue Detail'!$Q$78 -> 0 | F25: ='Revenue Detail'!$AK$78 -> 0 | H25: ='Revenue Detail'!$BE$78 -> 0 | J25: ='Revenue Detail'!$BY$78 -> 0 | L25: ='Revenue Detail'!$CS$78 -> 0 | N25: =SUM(D25:L25) -> 0
B26: Fees | D26: ='Revenue Detail'!S88 -> 0 | F26: ='Revenue Detail'!$AM$88 -> 0 | H26: ='Revenue Detail'!$BG$88 -> 0 | J26: ='Revenue Detail'!$CA$88 -> 0 | L26: ='Revenue Detail'!$CU$88 -> 0 | N26: =SUM(D26:L26) -> 0
B27: Adj. for Attrition (if applicable) | D27: ='Revenue Detail'!$W$88 -> 0 | F27: ='Revenue Detail'!AQ88 -> 0 | H27: ='Revenue Detail'!BK88 -> 0 | J27: ='Revenue Detail'!CE88 -> 0 | L27: ='Revenue Detail'!CY88 -> 0 | N27: =SUM(D27:L27) -> 0
B28: Other Income | N28: =SUM(D28:L28) -> 0
A29: Total Total Tuition and Fees | D29: =SUM(D20:D28) -> 0 | F29: =SUM(F20:F28) -> 0 | H29: =SUM(H20:H28) -> 0 | J29: =SUM(J20:J28) -> 0 | L29: =SUM(L20:L28) -> 0 | N29: =SUM(N20:N28) -> 0
A31: Total Funded Scholarship Requests
B32: Undergraduate | D32: ='Revenue Detail'!T25+'Revenue Detail'!T42+'Revenue Detail'!T69+'Revenue Detail'!T73+'Revenue Detail'!T78 -> 0 | F32: ='Revenue Detail'!AN25+'Revenue Detail'!AN42+'Revenue Detail'!AN69+'Revenue Detail'!AN73+'Revenue Detail'!AN78 -> 0 | H32: ='Revenue Detail'!BH25+'Revenue Detail'!BH42+'Revenue Detail'!BH69+'Revenue Detail'!BH73+'Revenue Detail'!BH78 -> 0 | J32: ='Revenue Detail'!CB25+'Revenue Detail'!CB42+'Revenue Detail'!CB69+'Revenue Detail'!CB73+'Revenue Detail'!CB78 -> 0 | L32: ='Revenue Detail'!CV25+'Revenue Detail'!CV42+'Revenue Detail'!CV69+'Revenue Detail'!CV73+'Revenue Detail'!CV78 -> 0 | N32: =D32+F32+H32+J32+L32 -> 0
B33: Graduate | D33: ='Revenue Detail'!$T$55 -> 0 | F33: ='Revenue Detail'!$AN$55 -> 0 | H33: ='Revenue Detail'!$BH$55 -> 0 | J33: ='Revenue Detail'!$CB$55 -> 0 | L33: ='Revenue Detail'!$CV$55 -> 0 | N33: =D33+F33+H33+J33+L33 -> 0
B34: Other Scholarships | N34: =D34+F34+H34+J34+L34 -> 0
B35: Total Scholarships* | D35: =SUM(D32:D34) -> 0 | F35: =SUM(F32:F34) -> 0 | H35: =SUM(H32:H34) -> 0 | J35: =SUM(J32:J34) -> 0 | L35: =SUM(L32:L34) -> 0 | N35: =SUM(N32:N34) -> 0
A37: Total Net Revenues | D37: =D29-D35 -> 0 | F37: =F29-F35 -> 0 | H37: =H29-H35 -> 0 | J37: =J29-J35 -> 0 | L37: =L29-L35 -> 0 | N37: =N29-N35 -> 0
A39: Total Expenses
A40: Salary and Benefit Expense
B41: Full Time Faculty | D41: ='Salary Detail'!$I$26 -> 0 | F41: ='Salary Detail'!$S$26 -> 0 | H41: ='Salary Detail'!$AC$26 -> 0 | J41: ='Salary Detail'!$AM$26 -> 0 | L41: ='Salary Detail'!$AW$26 -> 0 | N41: =SUM(D41:L41) -> 0
B42: Part Time Faculty | D42: ='Salary Detail'!$I$43 -> 0 | F42: ='Salary Detail'!$S$43 -> 0 | H42: ='Salary Detail'!$AC$43 -> 0 | J42: ='Salary Detail'!$AM$43 -> 0 | L42: ='Salary Detail'!$AW$43 -> 0 | N42: =SUM(D42:L42) -> 0
B43: Full Time Staff | D43: ='Salary Detail'!$I$60 -> 0 | F43: ='Salary Detail'!$S$60 -> 0 | H43: ='Salary Detail'!$AC$60 -> 0 | J43: ='Salary Detail'!$AM$60 -> 0 | L43: ='Salary Detail'!$AW$60 -> 0 | N43: =SUM(D43:L43) -> 0
B44: Part Time Staff | D44: ='Salary Detail'!$I$78 -> 0 | F44: ='Salary Detail'!$S$78 -> 0 | H44: ='Salary Detail'!$AC$78 -> 0 | J44: ='Salary Detail'!$AM$78 -> 0 | L44: ='Salary Detail'!$AW$78 -> 0 | N44: =SUM(D44:L44) -> 0
B45: Supplemental Salary | D45: ='Salary Detail'!$I$96 -> 0 | F45: ='Salary Detail'!$S$96 -> 0 | H45: ='Salary Detail'!$AC$96 -> 0 | J45: ='Salary Detail'!$AM$96 -> 0 | L45: ='Salary Detail'!$AW$96 -> 0 | N45: =SUM(D45:L45) -> 0
B46: Grad Student Stipend | D46: ='Salary Detail'!$I$114 -> 0 | F46: ='Salary Detail'!$S$114 -> 0 | H46: ='Salary Detail'!$AC$114 -> 0 | J46: ='Salary Detail'!$AM$114 -> 0 | L46: ='Salary Detail'!$AW$114 -> 0 | N46: =SUM(D46:L46) -> 0
...

Sheet Revenue Detail
B1: LOYOLA UNIVERSITY CHICAGO
B2: ACADEMIC AFFAIRS - PROGRAM BUDGET DEVELOPMENT
B3: <Enter Program Name>
B4: Five Year Pro Forma Budget Development Revenue Detail - Template
B5: Please enter values in orange fields
C6: Current Fiscal Year | N6: Fiscal Year 1 | AH6: Fiscal Year 2 | BB6: Fiscal Year 3 | BV6: Fiscal Year 4 | CP6: Fiscal Year 5
C7: For Program Modifications - Start Here | For New Programs - Start on FY 1 Section Columns M-U | N7: FY 1 | Y7: FY 1 vs. FY Base Year Increase (Decrease) | AH7: FY 2 | AS7: FY 2 vs. FY 1 Increase (Decrease) | BB7: FY 3 | BM7: FY 3 vs. FY 2 Increase (Decrease) | BV7: FY 4 | CG7: FY 4 vs. FY 3 Increase (Decrease) | CP7: FY 5 | DA7: FY 5 vs. FY 4 Increase (Decrease) | DJ7: Total Five Year Increase (Decrease)
C8: Enrollment | D8: #Credit | E8: $Credit/Hr. | F8: Tuition | G8: Fee/Student | H8: Fees | I8: Funded Scholarship Requests | J8: Net Tuition & Fee Revenue | K8: Attrition | L8: Total Attrition | N8: Enrollment | O8: #Credit | P8: $Credit/Hr. | Q8: Tuition | R8: Fee/Student | S8: Fees | T8: Funded Scholarship Requests | U8: Net Tuition & Fee Revenue | V8: Attrition | W8: Total Attrition | Y8: Enrollment | Z8: #Credit | AA8: $Credit/Hr. | AB8: Tuition | AC8: Fees | AD8: Funded Scholarship Requests | AE8: Net Tuition & Fee Revenue | AF8: Total Attrition | AH8: Enrollment | AI8: #Credit | AJ8: $Credit/Hr. | AK8: Tuition | AL8: Fee/Student | AM8: Fees | AN8: Funded Scholarship Requests | AO8: Net Tuition & Fee Revenue | AP8: Attrition | AQ8: Total Attrition | AS8: Enrollment | AT8: #Credit | AU8: $Credit/Hr. | AV8: Tuition | AW8: Fees | AX8: Funded Scholarship Requests | AY8: Net Tuition & Fee Revenue | AZ8: Total Attrition | BB8: Enrollment | BC8: #Credit | BD8: $Credit/Hr. | BE8: Tuition | BF8: Fee/Student | BG8: Fees | BH8: Funded Scholarship Requests | BI8: Net Tuition & Fee Revenue | BJ8: Attrition | BK8: Total Attrition | BM8: Enrollment | BN8: #Credit | BO8: $Credit/Hr. | BP8: Tuition | BQ8: Fees | BR8: Funded Scholarship Requests | BS8: Net Tuition & Fee Revenue | BT8: Total Attrition | BV8: Enrollment | BW8: #Credit | BX8: $Credit/Hr. | BY8: Tuition | BZ8: Fee/Student | CA8: Fees | CB8: Funded Scholarship Requests | CC8: Net Tuition & Fee Revenue | CD8: Attrition | CE8: Total Attrition | CG8: Enrollment | CH8: #Credit | CI8: $Credit/Hr. | CJ8: Tuition | CK8: Fees | CL8: Funded Scholarship Requests | CM8: Net Tuition & Fee Revenue | CN8: Total Attrition | CP8: Enrollment | CQ8: #Credit | CR8: $Credit/Hr. | CS8: Tuition | CT8: Fee/Student | CU8: Fees | CV8: Funded Scholarship Requests | CW8: Net Tuition & Fee Revenue | CX8: Attrition | CY8: Total Attrition | DA8: Enrollment | DB8: #Credit | DC8: $Credit/Hr. | DD8: Tuition | DE8: Fees (Course/Lab) | DF8: Funded Scholarship Requests | DG8: Net Tuition & Fee Revenue | DH8: Total Attrition | DJ8: Enrollment | DK8: #Credit | DL8: $Credit/Hr. | DM8: Tuition | DN8: Fees | DO8: Funded Scholarship Requests | DP8: Net Tuition & Fee Revenue | DQ8: Total Attrition | DS8: Notes/Assumptions
C9: (# of students) | D9: (# of credits per class) | E9: (Dollar amount per credit hour) | F9: (Enrollment x #credits x $credit per hour) | G9: (Total course/lab fees per student) | H9: (Enrollment x total fees per student) | I9: (Tuition x rate) | J9: (Tuition + fees - scholarship) | K9: Enter rate in percent) | L9: (Tuition + fees - scholarship) * Attrition Rate | N9: (# of students) | O9: (# of credits per class) | P9: (Dollar amount per credit hour) | Q9: (Enrollment x #credits x $credit per hour) | R9: (Total course/lab fees per student) | S9: (Enrollment x total fees per student) | T9: (Tuition x rate) | U9: (Tuition + fees - scholarship) | V9: Enter rate in percent) | W9: (Tuition + fees - scholarship) * Attrition Rate | Y9: (# of students) | Z9: (# of credits per class) | AA9: (Dollar amount per credit hour) | AB9: (Enrollment x #credits x $credit per hour) | AC9: (Enrollment x total fees per student) | AD9: (Tuition x rate %) | AE9: (Tuition + fees - scholarship) | AF9: (Tuition + fees - scholarship) * Attrition Rate | AH9: (# of students) | AI9: (# of credits per class) | AJ9: (Dollar amount per credit hour) | AK9: (Enrollment x #credits x $credit per hour) | AL9: (Total course/lab fees per student) | AM9: (Enrollment x total fees per student) | AN9: (Tuition x rate %) | AO9: (Tuition + fees - scholarship) | AP9: Enter rate in percent) | AQ9: (Tuition + fees - scholarship) * Attrition Rate | AS9: (# of students) | AT9: (# of credits per class) | AU9: (Dollar amount per credit hour) | AV9: (Enrollment x #credits x $credit per hour) | AW9: (Enrollment x total fees per student) | AX9: (Tuition x rate %) | AY9: (Tuition + fees - scholarship) | AZ9: (Tuition + fees - scholarship) * Attrition Rate | BB9: (# of students) | BC9: (# of credits per class) | BD9: (Dollar amount per credit hour) | BE9: (Enrollment x #credits x $credit per hour) | BF9: (Total course/lab fees per student) | BG9: (Enrollment x total fees per student) | BH9: (Tuition x rate %) | BI9: (Tuition + fees - scholarship) | BJ9: Enter rate in percent) | BK9: (Tuition + fees - scholarship) * Attrition Rate | BM9: (# of students) | BN9: (# of credits per class) | BO9: (Dollar amount per credit hour) | BP9: (Enrollment x #credits x $credit per hour) | BQ9: (Enrollment x total fees per student) | BR9: (Tuition x rate %) | BS9: (Tuition + fees - scholarship) | BT9: (Tuition + fees - scholarship) * Attrition Rate | BV9: (# of students) | BW9: (# of credits per class) | BX9: (Dollar amount per credit hour) | BY9: (Enrollment x #credits x $credit per hour) | BZ9: (Total course/lab fees per student) | CA9: (Enrollment x total fees per student) | CB9: (Tuition x rate %) | CC9: (Tuition + fees - scholarship) | CD9: Enter rate in percent) | CE9: (Tuition + fees - scholarship) * Attrition Rate | CG9: (# of students) | CH9: (# of credits per class) | CI9: (Dollar amount per credit hour) | CJ9: (Enrollment x #credits x $credit per hour) | CK9: (Enrollment x total fees per student) | CL9: (Tuition x rate %) | CM9: (Tuition + fees - scholarship) | CN9: (Tuition + fees - scholarship) * Attrition Rate | CP9: (# of students) | CQ9: (# of credits per class) | CR9: (Dollar amount per credit hour) | CS9: (Enrollment x #credits x $credit per hour) | CT9: (Total course/lab fees per student) | CU9: (Enrollment x total fees per student) | CV9: (Tuition x rate %) | CW9: (Tuition + fees - scholarship) | CX9: Enter rate in percent) | CY9: (Tuition + fees - scholarship) * Attrition Rate | DA9: (# of students) | DB9: (# of credits per class) | DC9: (Dollar amount per credit hour) | DD9: (Enrollment x #credits x $credit per hour) | DE9: (Enrollment x total fees per student) | DF9: (Tuition x rate %) | DG9: (Tuition + fees - scholarship) | DH9: (Tuition + fees - scholarship) * Attrition Rate | DJ9: (# of students) | DK9: (# of credits per class) | DL9: (Dollar amount per credit hour) | DM9: (Enrollment x #credits x $credit per hour) | DN9: (Enrollment x total fees per student) | DO9: (Tuition x rate %) | DP9: (Tuition + fees - scholarship) | DQ9: (Tuition + fees - scholarship) * Attrition Rate
B10: Undergraduate Full-Time | Revenue Detail
B11: Fall
B12: Freshmen | F12: =C12*(D12*E12) -> 0 | H12: =G12*C12 -> 0 | J12: =F12+H12-I12 -> 0 | L12: =-J12*K12 -> 0 | Q12: =N12*(O12*P12) -> 0 | S12: =R12*N12 -> 0 | U12: =Q12+S12-T12 -> 0 | W12: =U12*-V12 -> 0 | Y12: =N12-C12 -> 0 | Z12: =O12-D12 -> 0 | AA12: =P12-E12 -> 0 | AB12: =Q12-F12 -> 0 | AC12: =S12-H12 -> 0 | AD12: =T12-I12 -> 0 | AE12: =U12-J12 -> 0 | AF12: =W12-L12 -> 0 | AK12: =AH12*(AI12*AJ12) -> 0 | AM12: =AL12*AH12 -> 0 | AO12: =AK12+AM12-AN12 -> 0 | AQ12: =-AO12*AP12 -> 0 | AS12: =AH12-N12 -> 0 | AT12: =AI12-O12 -> 0 | AU12: =AJ12-P12 -> 0 | AV12: =AK12-Q12 -> 0 | AW12: =AM12-S12 -> 0 | AX12: =AN12-T12 -> 0 | AY12: =AO12-U12 -> 0 | AZ12: =AQ12-W12 -> 0 | BE12: =BB12*(BC12*BD12) -> 0 | BG12: =BF12*BB12 -> 0 | BI12: =BE12+BG12-BH12 -> 0 | BK12: =-BI12*BJ12 -> 0 | BM12: =BB12-AH12 -> 0 | BN12: =BC12-AI12 -> 0 | BO12: =BD12-AJ12 -> 0 | BP12: =BE12-AK12 -> 0 | BQ12: =BG12-AM12 -> 0 | BR12: =BH12-AN12 -> 0 | BS12: =BI12-AO12 -> 0 | BT12: =BK12-AQ12 -> 0 | BY12: =BV12*(BW12*BX12) -> 0 | CA12: =BZ12*BV12 -> 0 | CC12: =BY12+CA12-CB12 -> 0 | CE12: =-CC12*CD12 -> 0 | CG12: =BV12-BB12 -> 0 | CH12: =BW12-BC12 -> 0 | CI12: =BX12-BD12 -> 0 | CJ12: =BY12-BE12 -> 0 | CK12: =CA12-BG12 -> 0 | CL12: =CB12-BH12 -> 0 | CM12: =CC12-BI12 -> 0 | CN12: =CE12-BK12 -> 0 | CS12: =CP12*(CQ12*CR12) -> 0 | CU12: =CT12*CP12 -> 0 | CW12: =CS12+CU12-CV12 -> 0 | CY12: =-CW12*CX12 -> 0 | DA12: =CP12-BV12 -> 0 | DB12: =CQ12-BW12 -> 0 | DC12: =CR12-BX12 -> 0 | DD12: =CS12-BY12 -> 0 | DE12: =CU12-CA12 -> 0 | DF12: =CV12-CB12 -> 0 | DG12: =CW12-CC12 -> 0 | DH12: =CY12-CE12 -> 0 | DJ12: =Y12+AS12+BM12+CG12+DA12 -> 0 | DK12: =Z12+AT12+BN12+CH12+DB12 -> 0 | DL12: =AA12+AU12+BO12+CI12+DC12 -> 0 | DM12: =AB12+AV12+BP12+CJ12+DD12 -> 0 | DN12: =AC12+AW12+BQ12+CK12+DE12 -> 0 | DO12: =AD12+AX12+BR12+CL12+DF12 -> 0 | DP12: =AE12+AY12+BS12+CM12+DG12 -> 0 | DQ12: =AF12+AZ12+BT12+CN12+DH12 -> 0
B13: Sophomore | F13: =C13*(D13*E13) -> 0 | H13: =G13*C13 -> 0 | J13: =F13+H13-I13 -> 0 | L13: =-J13*K13 -> 0 | Q13: =N13*(O13*P13) -> 0 | S13: =R13*N13 -> 0 | U13: =Q13+S13-T13 -> 0 | W13: =U13*-V13 -> 0 | Y13: =N13-C13 -> 0 | Z13: =O13-D13 -> 0 | AA13: =P13-E13 -> 0 | AB13: =Q13-F13 -> 0 | AC13: =S13-H13 -> 0 | AD13: =T13-I13 -> 0 | AE13: =U13-J13 -> 0 | AF13: =W13-L13 -> 0 | AK13: =AH13*(AI13*AJ13) -> 0 | AM13: =AL13*AH13 -> 0 | AO13: =AK13+AM13-AN13 -> 0 | AQ13: =-AO13*AP13 -> 0 | AS13: =AH13-N13 -> 0 | AT13: =AI13-O13 -> 0 | AU13: =AJ13-P13 -> 0 | AV13: =AK13-Q13 -> 0 | AW13: =AM13-S13 -> 0 | AX13: =AN13-T13 -> 0 | AY13: =AO13-U13 -> 0 | AZ13: =AQ13-W13 -> 0 | BE13: =BB13*(BC13*BD13) -> 0 | BG13: =BF13*BB13 -> 0 | BI13: =BE13+BG13-BH13 -> 0 | BK13: =-BI13*BJ13 -> 0 | BM13: =BB13-AH13 -> 0 | BN13: =BC13-AI13 -> 0 | BO13: =BD13-AJ13 -> 0 | BP13: =BE13-AK13 -> 0 | BQ13: =BG13-AM13 -> 0 | BR13: =BH13-AN13 -> 0 | BS13: =BI13-AO13 -> 0 | BT13: =BK13-AQ13 -> 0 | BY13: =BV13*(BW13*BX13) -> 0 | CA13: =BZ13*BV13 -> 0 | CC13: =BY13+CA13-CB13 -> 0 | CE13: =-CC13*CD13 -> 0 | CG13: =BV13-BB13 -> 0 | CH13: =BW13-BC13 -> 0 | CI13: =BX13-BD13 -> 0 | CJ13: =BY13-BE13 -> 0 | CK13: =CA13-BG13 -> 0 | CL13: =CB13-BH13 -> 0 | CM13: =CC13-BI13 -> 0 | CN13: =CE13-BK13 -> 0 | CS13: =CP13*(CQ13*CR13) -> 0 | CU13: =CT13*CP13 -> 0 | CW13: =CS13+CU13-CV13 -> 0 | CY13: =-CW13*CX13 -> 0 | DA13: =CP13-BV13 -> 0 | DB13: =CQ13-BW13 -> 0 | DC13: =CR13-BX13 -> 0 | DD13: =CS13-BY13 -> 0 | DE13: =CU13-CA13 -> 0 | DF13: =CV13-CB13 -> 0 | DG13: =CW13-CC13 -> 0 | DH13: =CY13-CE13 -> 0 | DJ13: =Y13+AS13+BM13+CG13+DA13 -> 0 | DK13: =Z13+AT13+BN13+CH13+DB13 -> 0 | DL13: =AA13+AU13+BO13+CI13+DC13 -> 0 | DM13: =AB13+AV13+BP13+CJ13+DD13 -> 0 | DN13: =AC13+AW13+BQ13+CK13+DE13 -> 0 | DO13: =AD13+AX13+BR13+CL13+DF13 -> 0 | DP13: =AE13+AY13+BS13+CM13+DG13 -> 0 | DQ13: =AF13+AZ13+BT13+CN13+DH13 -> 0
B14: Junior | F14: =C14*(D14*E14) -> 0 | H14: =G14*C14 -> 0 | J14: =F14+H14-I14 -> 0 | L14: =-J14*K14 -> 0 | Q14: =N14*(O14*P14) -> 0 | S14: =R14*N14 -> 0 | U14: =Q14+S14-T14 -> 0 | W14: =U14*-V14 -> 0 | Y14: =N14-C14 -> 0 | Z14: =O14-D14 -> 0 | AA14: =P14-E14 -> 0 | AB14: =Q14-F14 -> 0 | AC14: =S14-H14 -> 0 | AD14: =T14-I14 -> 0 | AE14: =U14-J14 -> 0 | AF14: =W14-L14 -> 0 | AK14: =AH14*(AI14*AJ14) -> 0 | AM14: =AL14*AH14 -> 0 | AO14: =AK14+AM14-AN14 -> 0 | AQ14: =-AO14*AP14 -> 0 | AS14: =AH14-N14 -> 0 | AT14: =AI14-O14 -> 0 | AU14: =AJ14-P14 -> 0 | AV14: =AK14-Q14 -> 0 | AW14: =AM14-S14 -> 0 | AX14: =AN14-T14 -> 0 | AY14: =AO14-U14 -> 0 | AZ14: =AQ14-W14 -> 0 | BE14: =BB14*(BC14*BD14) -> 0 | BG14: =BF14*BB14 -> 0 | BI14: =BE14+BG14-BH14 -> 0 | BK14: =-BI14*BJ14 -> 0 | BM14: =BB14-AH14 -> 0 | BN14: =BC14-AI14 -> 0 | BO14: =BD14-AJ14 -> 0 | BP14: =BE14-AK14 -> 0 | BQ14: =BG14-AM14 -> 0 | BR14: =BH14-AN14 -> 0 | BS14: =BI14-AO14 -> 0 | BT14: =BK14-AQ14 -> 0 | BY14: =BV14*(BW14*BX14) -> 0 | CA14: =BZ14*BV14 -> 0 | CC14: =BY14+CA14-CB14 -> 0 | CE14: =-CC14*CD14 -> 0 | CG14: =BV14-BB14 -> 0 | CH14: =BW14-BC14 -> 0 | CI14: =BX14-BD14 -> 0 | CJ14: =BY14-BE14 -> 0 | CK14: =CA14-BG14 -> 0 | CL14: =CB14-BH14 -> 0 | CM14: =CC14-BI14 -> 0 | CN14: =CE14-BK14 -> 0 | CS14: =CP14*(CQ14*CR14) -> 0 | CU14: =CT14*CP14 -> 0 | CW14: =CS14+CU14-CV14 -> 0 | CY14: =-CW14*CX14 -> 0 | DA14: =CP14-BV14 -> 0 | DB14: =CQ14-BW14 -> 0 | DC14: =CR14-BX14 -> 0 | DD14: =CS14-BY14 -> 0 | DE14: =CU14-CA14 -> 0 | DF14: =CV14-CB14 -> 0 | DG14: =CW14-CC14 -> 0 | DH14: =CY14-CE14 -> 0 | DJ14: =Y14+AS14+BM14+CG14+DA14 -> 0 | DK14: =Z14+AT14+BN14+CH14+DB14 -> 0 | DL14: =AA14+AU14+BO14+CI14+DC14 -> 0 | DM14: =AB14+AV14+BP14+CJ14+DD14 -> 0 | DN14: =AC14+AW14+BQ14+CK14+DE14 -> 0 | DO14: =AD14+AX14+BR14+CL14+DF14 -> 0 | DP14: =AE14+AY14+BS14+CM14+DG14 -> 0 | DQ14: =AF14+AZ14+BT14+CN14+DH14 -> 0
B15: Senior | F15: =C15*(D15*E15) -> 0 | H15: =G15*C15 -> 0 | J15: =F15+H15-I15 -> 0 | L15: =-J15*K15 -> 0 | Q15: =N15*(O15*P15) -> 0 | S15: =R15*N15 -> 0 | U15: =Q15+S15-T15 -> 0 | W15: =U15*-V15 -> 0 | Y15: =N15-C15 -> 0 | Z15: =O15-D15 -> 0 | AA15: =P15-E15 -> 0 | AB15: =Q15-F15 -> 0 | AC15: =S15-H15 -> 0 | AD15: =T15-I15 -> 0 | AE15: =U15-J15 -> 0 | AF15: =W15-L15 -> 0 | AK15: =AH15*(AI15*AJ15) -> 0 | AM15: =AL15*AH15 -> 0 | AO15: =AK15+AM15-AN15 -> 0 | AQ15: =-AO15*AP15 -> 0 | AS15: =AH15-N15 -> 0 | AT15: =AI15-O15 -> 0 | AU15: =AJ15-P15 -> 0 | AV15: =AK15-Q15 -> 0 | AW15: =AM15-S15 -> 0 | AX15: =AN15-T15 -> 0 | AY15: =AO15-U15 -> 0 | AZ15: =AQ15-W15 -> 0 | BE15: =BB15*(BC15*BD15) -> 0 | BG15: =BF15*BB15 -> 0 | BI15: =BE15+BG15-BH15 -> 0 | BK15: =-BI15*BJ15 -> 0 | BM15: =BB15-AH15 -> 0 | BN15: =BC15-AI15 -> 0 | BO15: =BD15-AJ15 -> 0 | BP15: =BE15-AK15 -> 0 | BQ15: =BG15-AM15 -> 0 | BR15: =BH15-AN15 -> 0 | BS15: =BI15-AO15 -> 0 | BT15: =BK15-AQ15 -> 0 | BY15: =BV15*(BW15*BX15) -> 0 | CA15: =BZ15*BV15 -> 0 | CC15: =BY15+CA15-CB15 -> 0 | CE15: =-CC15*CD15 -> 0 | CG15: =BV15-BB15 -> 0 | CH15: =BW15-BC15 -> 0 | CI15: =BX15-BD15 -> 0 | CJ15: =BY15-BE15 -> 0 | CK15: =CA15-BG15 -> 0 | CL15: =CB15-BH15 -> 0 | CM15: =CC15-BI15 -> 0 | CN15: =CE15-BK15 -> 0 | CS15: =CP15*(CQ15*CR15) -> 0 | CU15: =CT15*CP15 -> 0 | CW15: =CS15+CU15-CV15 -> 0 | CY15: =-CW15*CX15 -> 0 | DA15: =CP15-BV15 -> 0 | DB15: =CQ15-BW15 -> 0 | DC15: =CR15-BX15 -> 0 | DD15: =CS15-BY15 -> 0 | DE15: =CU15-CA15 -> 0 | DF15: =CV15-CB15 -> 0 | DG15: =CW15-CC15 -> 0 | DH15: =CY15-CE15 -> 0 | DJ15: =Y15+AS15+BM15+CG15+DA15 -> 0 | DK15: =Z15+AT15+BN15+CH15+DB15 -> 0 | DL15: =AA15+AU15+BO15+CI15+DC15 -> 0 | DM15: =AB15+AV15+BP15+CJ15+DD15 -> 0 | DN15: =AC15+AW15+BQ15+CK15+DE15 -> 0 | DO15: =AD15+AX15+BR15+CL15+DF15 -> 0 | DP15: =AE15+AY15+BS15+CM15+DG15 -> 0 | DQ15: =AF15+AZ15+BT15+CN15+DH15 -> 0
B16: Total Fall | C16: =SUM(C12:C15) -> 0 | F16: =SUM(F12:F15) -> 0 | H16: =SUM(H12:H15) -> 0 | I16: =SUM(I12:I15) -> 0 | J16: =SUM(J12:J15) -> 0 | L16: =SUM(L12:L15) -> 0 | N16: =SUM(N12:N15) -> 0 | Q16: =SUM(Q12:Q15) -> 0 | S16: =SUM(S12:S15) -> 0 | T16: =SUM(T12:T15) -> 0 | U16: =SUM(U12:U15) -> 0 | W16: =SUM(W12:W15) -> 0 | Y16: =SUM(Y12:Y15) -> 0 | AB16: =SUM(AB12:AB15) -> 0 | AC16: =SUM(AC12:AC15) -> 0 | AD16: =SUM(AD12:AD15) -> 0 | AE16: =SUM(AE12:AE15) -> 0 | AF16: =SUM(AF12:AF15) -> 0 | AH16: =SUM(AH12:AH15) -> 0 | AK16: =SUM(AK12:AK15) -> 0 | AM16: =SUM(AM12:AM15) -> 0 | AN16: =SUM(AN12:AN15) -> 0 | AO16: =SUM(AO12:AO15) -> 0 | AQ16: =SUM(AQ12:AQ15) -> 0 | AS16: =SUM(AS12:AS15) -> 0 | AV16: =SUM(AV12:AV15) -> 0 | AW16: =SUM(AW12:AW15) -> 0 | AX16: =SUM(AX12:AX15) -> 0 | AY16: =SUM(AY12:AY15) -> 0 | AZ16: =SUM(AZ12:AZ15) -> 0 | BB16: =SUM(BB12:BB15) -> 0 | BE16: =SUM(BE12:BE15) -> 0 | BG16: =SUM(BG12:BG15) -> 0 | BH16: =SUM(BH12:BH15) -> 0 | BI16: =SUM(BI12:BI15) -> 0 | BK16: =SUM(BK12:BK15) -> 0 | BM16: =SUM(BM12:BM15) -> 0 | BP16: =SUM(BP12:BP15) -> 0 | BQ16: =SUM(BQ12:BQ15) -> 0 | BR16: =SUM(BR12:BR15) -> 0 | BS16: =SUM(BS12:BS15) -> 0 | BT16: =SUM(BT12:BT15) -> 0 | BV16: =SUM(BV12:BV15) -> 0 | BY16: =SUM(BY12:BY15) -> 0 | CA16: =SUM(CA12:CA15) -> 0 | CB16: =SUM(CB12:CB15) -> 0 | CC16: =SUM(CC12:CC15) -> 0 | CE16: =SUM(CE12:CE15) -> 0 | CG16: =SUM(CG12:CG15) -> 0 | CJ16: =SUM(CJ12:CJ15) -> 0 | CK16: =SUM(CK12:CK15) -> 0 | CL16: =SUM(CL12:CL15) -> 0 | CM16: =SUM(CM12:CM15) -> 0 | CN16: =SUM(CN12:CN15) -> 0 | CP16: =SUM(CP12:CP15) -> 0 | CS16: =SUM(CS12:CS15) -> 0 | CU16: =SUM(CU12:CU15) -> 0 | CV16: =SUM(CV12:CV15) -> 0 | CW16: =SUM(CW12:CW15) -> 0 | CY16: =SUM(CY12:CY15) -> 0 | DA16: =SUM(DA12:DA15) -> 0 | DD16: =SUM(DD12:DD15) -> 0 | DE16: =SUM(DE12:DE15) -> 0 | DF16: =SUM(DF12:DF15) -> 0 | DG16: =SUM(DG12:DG15) -> 0 | DH16: =SUM(DH12:DH15) -> 0 | DJ16: =SUM(DJ12:DJ15) -> 0 | DM16: =SUM(DM12:DM15) -> 0 | DN16: =SUM(DN12:DN15) -> 0 | DO16: =SUM(DO12:DO15) -> 0 | DP16: =SUM(DP12:DP15) -> 0 | DQ16: =SUM(DQ12:DQ15) -> 0
B18: Spring
B19: Freshmen | F19: =C19*(D19*E19) -> 0 | H19: =G19*C19 -> 0 | J19: =F19+H19-I19 -> 0 | L19: =-J19*K19 -> 0 | Q19: =N19*(O19*P19) -> 0 | S19: =R19*N19 -> 0 | U19: =Q19+S19-T19 -> 0 | W19: =U19*-V19 -> 0 | Y19: =N19-C19 -> 0 | Z19: =O19-D19 -> 0 | AA19: =P19-E19 -> 0 | AB19: =Q19-F19 -> 0 | AC19: =S19-H19 -> 0 | AD19: =T19-I19 -> 0 | AE19: =U19-J19 -> 0 | AF19: =W19-L19 -> 0 | AK19: =AH19*(AI19*AJ19) -> 0 | AM19: =AL19*AH19 -> 0 | AO19: =AK19+AM19-AN19 -> 0 | AQ19: =-AO19*AP19 -> 0 | AS19: =AH19-N19 -> 0 | AT19: =AI19-O19 -> 0 | AU19: =AJ19-P19 -> 0 | AV19: =AK19-Q19 -> 0 | AW19: =AM19-S19 -> 0 | AX19: =AN19-T19 -> 0 | AY19: =AO19-U19 -> 0 | AZ19: =AQ19-W19 -> 0 | BE19: =BB19*(BC19*BD19) -> 0 | BG19: =BF19*BB19 -> 0 | BI19: =BE19+BG19-BH19 -> 0 | BK19: =-BI19*BJ19 -> 0 | BM19: =BB19-AH19 -> 0 | BN19: =BC19-AI19 -> 0 | BO19: =BD19-AJ19 -> 0 | BP19: =BE19-AK19 -> 0 | BQ19: =BG19-AM19 -> 0 | BR19: =BH19-AN19 -> 0 | BS19: =BI19-AO19 -> 0 | BT19: =BK19-AQ19 -> 0 | BY19: =BV19*(BW19*BX19) -> 0 | CA19: =BZ19*BV19 -> 0 | CC19: =BY19+CA19-CB19 -> 0 | CE19: =-CC19*CD19 -> 0 | CG19: =BV19-BB19 -> 0 | CH19: =BW19-BC19 -> 0 | CI19: =BX19-BD19 -> 0 | CJ19: =BY19-BE19 -> 0 | CK19: =CA19-BG19 -> 0 | CL19: =CB19-BH19 -> 0 | CM19: =CC19-BI19 -> 0 | CN19: =CE19-BK19 -> 0 | CS19: =CP19*(CQ19*CR19) -> 0 | CU19: =CT19*CP19 -> 0 | CW19: =CS19+CU19-CV19 -> 0 | CY19: =-CW19*CX19 -> 0 | DA19: =CP19-BV19 -> 0 | DB19: =CQ19-BW19 -> 0 | DC19: =CR19-BX19 -> 0 | DD19: =CS19-BY19 -> 0 | DE19: =CU19-CA19 -> 0 | DF19: =CV19-CB19 -> 0 | DG19: =CW19-CC19 -> 0 | DH19: =CY19-CE19 -> 0 | DJ19: =Y19+AS19+BM19+CG19+DA19 -> 0 | DK19: =Z19+AT19+BN19+CH19+DB19 -> 0 | DL19: =AA19+AU19+BO19+CI19+DC19 -> 0 | DM19: =AB19+AV19+BP19+CJ19+DD19 -> 0 | DN19: =AC19+AW19+BQ19+CK19+DE19 -> 0 | DO19: =AD19+AX19+BR19+CL19+DF19 -> 0 | DP19: =AE19+AY19+BS19+CM19+DG19 -> 0 | DQ19: =AF19+AZ19+BT19+CN19+DH19 -> 0
B20: Sophomore | F20: =C20*(D20*E20) -> 0 | H20: =G20*C20 -> 0 | J20: =F20+H20-I20 -> 0 | L20: =-J20*K20 -> 0 | Q20: =N20*(O20*P20) -> 0 | S20: =R20*N20 -> 0 | U20: =Q20+S20-T20 -> 0 | W20: =U20*-V20 -> 0 | Y20: =N20-C20 -> 0 | Z20: =O20-D20 -> 0 | AA20: =P20-E20 -> 0 | AB20: =Q20-F20 -> 0 | AC20: =S20-H20 -> 0 | AD20: =T20-I20 -> 0 | AE20: =U20-J20 -> 0 | AF20: =W20-L20 -> 0 | AK20: =AH20*(AI20*AJ20) -> 0 | AM20: =AL20*AH20 -> 0 | AO20: =AK20+AM20-AN20 -> 0 | AQ20: =-AO20*AP20 -> 0 | AS20: =AH20-N20 -> 0 | AT20: =AI20-O20 -> 0 | AU20: =AJ20-P20 -> 0 | AV20: =AK20-Q20 -> 0 | AW20: =AM20-S20 -> 0 | AX20: =AN20-T20 -> 0 | AY20: =AO20-U20 -> 0 | AZ20: =AQ20-W20 -> 0 | BE20: =BB20*(BC20*BD20) -> 0 | BG20: =BF20*BB20 -> 0 | BI20: =BE20+BG20-BH20 -> 0 | BK20: =-BI20*BJ20 -> 0 | BM20: =BB20-AH20 -> 0 | BN20: =BC20-AI20 -> 0 | BO20: =BD20-AJ20 -> 0 | BP20: =BE20-AK20 -> 0 | BQ20: =BG20-AM20 -> 0 | BR20: =BH20-AN20 -> 0 | BS20: =BI20-AO20 -> 0 | BT20: =BK20-AQ20 -> 0 | BY20: =BV20*(BW20*BX20) -> 0 | CA20: =BZ20*BV20 -> 0 | CC20: =BY20+CA20-CB20 -> 0 | CE20: =-CC20*CD20 -> 0 | CG20: =BV20-BB20 -> 0 | CH20: =BW20-BC20 -> 0 | CI20: =BX20-BD20 -> 0 | CJ20: =BY20-BE20 -> 0 | CK20: =CA20-BG20 -> 0 | CL20: =CB20-BH20 -> 0 | CM20: =CC20-BI20 -> 0 | CN20: =CE20-BK20 -> 0 | CS20: =CP20*(CQ20*CR20) -> 0 | CU20: =CT20*CP20 -> 0 | CW20: =CS20+CU20-CV20 -> 0 | CY20: =-CW20*CX20 -> 0 | DA20: =CP20-BV20 -> 0 | DB20: =CQ20-BW20 -> 0 | DC20: =CR20-BX20 -> 0 | DD20: =CS20-BY20 -> 0 | DE20: =CU20-CA20 -> 0 | DF20: =CV20-CB20 -> 0 | DG20: =CW20-CC20 -> 0 | DH20: =CY20-CE20 -> 0 | DJ20: =Y20+AS20+BM20+CG20+DA20 -> 0 | DK20: =Z20+AT20+BN20+CH20+DB20 -> 0 | DL20: =AA20+AU20+BO20+CI20+DC20 -> 0 | DM20: =AB20+AV20+BP20+CJ20+DD20 -> 0 | DN20: =AC20+AW20+BQ20+CK20+DE20 -> 0 | DO20: =AD20+AX20+BR20+CL20+DF20 -> 0 | DP20: =AE20+AY20+BS20+CM20+DG20 -> 0 | DQ20: =AF20+AZ20+BT20+CN20+DH20 -> 0
B21: Junior | F21: =C21*(D21*E21) -> 0 | H21: =G21*C21 -> 0 | J21: =F21+H21-I21 -> 0 | L21: =-J21*K21 -> 0 | Q21: =N21*(O21*P21) -> 0 | S21: =R21*N21 -> 0 | U21: =Q21+S21-T21 -> 0 | W21: =U21*-V21 -> 0 | Y21: =N21-C21 -> 0 | Z21: =O21-D21 -> 0 | AA21: =P21-E21 -> 0 | AB21: =Q21-F21 -> 0 | AC21: =S21-H21 -> 0 | AD21: =T21-I21 -> 0 | AE21: =U21-J21 -> 0 | AF21: =W21-L21 -> 0 | AK21: =AH21*(AI21*AJ21) -> 0 | AM21: =AL21*AH21 -> 0 | AO21: =AK21+AM21-AN21 -> 0 | AQ21: =-AO21*AP21 -> 0 | AS21: =AH21-N21 -> 0 | AT21: =AI21-O21 -> 0 | AU21: =AJ21-P21 -> 0 | AV21: =AK21-Q21 -> 0 | AW21: =AM21-S21 -> 0 | AX21: =AN21-T21 -> 0 | AY21: =AO21-U21 -> 0 | AZ21: =AQ21-W21 -> 0 | BE21: =BB21*(BC21*BD21) -> 0 | BG21: =BF21*BB21 -> 0 | BI21: =BE21+BG21-BH21 -> 0 | BK21: =-BI21*BJ21 -> 0 | BM21: =BB21-AH21 -> 0 | BN21: =BC21-AI21 -> 0 | BO21: =BD21-AJ21 -> 0 | BP21: =BE21-AK21 -> 0 | BQ21: =BG21-AM21 -> 0 | BR21: =BH21-AN21 -> 0 | BS21: =BI21-AO21 -> 0 | BT21: =BK21-AQ21 -> 0 | BY21: =BV21*(BW21*BX21) -> 0 | CA21: =BZ21*BV21 -> 0 | CC21: =BY21+CA21-CB21 -> 0 | CE21: =-CC21*CD21 -> 0 | CG21: =BV21-BB21 -> 0 | CH21: =BW21-BC21 -> 0 | CI21: =BX21-BD21 -> 0 | CJ21: =BY21-BE21 -> 0 | CK21: =CA21-BG21 -> 0 | CL21: =CB21-BH21 -> 0 | CM21: =CC21-BI21 -> 0 | CN21: =CE21-BK21 -> 0 | CS21: =CP21*(CQ21*CR21) -> 0 | CU21: =CT21*CP21 -> 0 | CW21: =CS21+CU21-CV21 -> 0 | CY21: =-CW21*CX21 -> 0 | DA21: =CP21-BV21 -> 0 | DB21: =CQ21-BW21 -> 0 | DC21: =CR21-BX21 -> 0 | DD21: =CS21-BY21 -> 0 | DE21: =CU21-CA21 -> 0 | DF21: =CV21-CB21 -> 0 | DG21: =CW21-CC21 -> 0 | DH21: =CY21-CE21 -> 0 | DJ21: =Y21+AS21+BM21+CG21+DA21 -> 0 | DK21: =Z21+AT21+BN21+CH21+DB21 -> 0 | DL21: =AA21+AU21+BO21+CI21+DC21 -> 0 | DM21: =AB21+AV21+BP21+CJ21+DD21 -> 0 | DN21: =AC21+AW21+BQ21+CK21+DE21 -> 0 | DO21: =AD21+AX21+BR21+CL21+DF21 -> 0 | DP21: =AE21+AY21+BS21+CM21+DG21 -> 0 | DQ21: =AF21+AZ21+BT21+CN21+DH21 -> 0
B22: Senior | F22: =C22*(D22*E22) -> 0 | H22: =G22*C22 -> 0 | J22: =F22+H22-I22 -> 0 | L22: =-J22*K22 -> 0 | Q22: =N22*(O22*P22) -> 0 | S22: =R22*N22 -> 0 | U22: =Q22+S22-T22 -> 0 | W22: =U22*-V22 -> 0 | Y22: =N22-C22 -> 0 | Z22: =O22-D22 -> 0 | AA22: =P22-E22 -> 0 | AB22: =Q22-F22 -> 0 | AC22: =S22-H22 -> 0 | AD22: =T22-I22 -> 0 | AE22: =U22-J22 -> 0 | AF22: =W22-L22 -> 0 | AK22: =AH22*(AI22*AJ22) -> 0 | AM22: =AL22*AH22 -> 0 | AO22: =AK22+AM22-AN22 -> 0 | AQ22: =-AO22*AP22 -> 0 | AS22: =AH22-N22 -> 0 | AT22: =AI22-O22 -> 0 | AU22: =AJ22-P22 -> 0 | AV22: =AK22-Q22 -> 0 | AW22: =AM22-S22 -> 0 | AX22: =AN22-T22 -> 0 | AY22: =AO22-U22 -> 0 | AZ22: =AQ22-W22 -> 0 | BE22: =BB22*(BC22*BD22) -> 0 | BG22: =BF22*BB22 -> 0 | BI22: =BE22+BG22-BH22 -> 0 | BK22: =-BI22*BJ22 -> 0 | BM22: =BB22-AH22 -> 0 | BN22: =BC22-AI22 -> 0 | BO22: =BD22-AJ22 -> 0 | BP22: =BE22-AK22 -> 0 | BQ22: =BG22-AM22 -> 0 | BR22: =BH22-AN22 -> 0 | BS22: =BI22-AO22 -> 0 | BT22: =BK22-AQ22 -> 0 | BY22: =BV22*(BW22*BX22) -> 0 | CA22: =BZ22*BV22 -> 0 | CC22: =BY22+CA22-CB22 -> 0 | CE22: =-CC22*CD22 -> 0 | CG22: =BV22-BB22 -> 0 | CH22: =BW22-BC22 -> 0 | CI22: =BX22-BD22 -> 0 | CJ22: =BY22-BE22 -> 0 | CK22: =CA22-BG22 -> 0 | CL22: =CB22-BH22 -> 0 | CM22: =CC22-BI22 -> 0 | CN22: =CE22-BK22 -> 0 | CS22: =CP22*(CQ22*CR22) -> 0 | CU22: =CT22*CP22 -> 0 | CW22: =CS22+CU22-CV22 -> 0 | CY22: =-CW22*CX22 -> 0 | DA22: =CP22-BV22 -> 0 | DB22: =CQ22-BW22 -> 0 | DC22: =CR22-BX22 -> 0 | DD22: =CS22-BY22 -> 0 | DE22: =CU22-CA22 -> 0 | DF22: =CV22-CB22 -> 0 | DG22: =CW22-CC22 -> 0 | DH22: =CY22-CE22 -> 0 | DJ22: =Y22+AS22+BM22+CG22+DA22 -> 0 | DK22: =Z22+AT22+BN22+CH22+DB22 -> 0 | DL22: =AA22+AU22+BO22+CI22+DC22 -> 0 | DM22: =AB22+AV22+BP22+CJ22+DD22 -> 0 | DN22: =AC22+AW22+BQ22+CK22+DE22 -> 0 | DO22: =AD22+AX22+BR22+CL22+DF22 -> 0 | DP22: =AE22+AY22+BS22+CM22+DG22 -> 0 | DQ22: =AF22+AZ22+BT22+CN22+DH22 -> 0
B23: Total Spring | C23: =SUM(C19:C22) -> 0 | F23: =SUM(F19:F22) -> 0 | H23: =SUM(H19:H22) -> 0 | I23: =SUM(I19:I22) -> 0 | J23: =SUM(J19:J22) -> 0 | L23: =SUM(L19:L22) -> 0 | N23: =SUM(N19:N22) -> 0 | Q23: =SUM(Q19:Q22) -> 0 | S23: =SUM(S19:S22) -> 0 | T23: =SUM(T19:T22) -> 0 | U23: =SUM(U19:U22) -> 0 | W23: =SUM(W19:W22) -> 0 | Y23: =SUM(Y19:Y22) -> 0 | AB23: =SUM(AB19:AB22) -> 0 | AC23: =SUM(AC19:AC22) -> 0 | AD23: =SUM(AD19:AD22) -> 0 | AE23: =SUM(AE19:AE22) -> 0 | AF23: =SUM(AF19:AF22) -> 0 | AH23: =SUM(AH19:AH22) -> 0 | AK23: =SUM(AK19:AK22) -> 0 | AM23: =SUM(AM19:AM22) -> 0 | AN23: =SUM(AN19:AN22) -> 0 | AO23: =SUM(AO19:AO22) -> 0 | AQ23: =SUM(AQ19:AQ22) -> 0 | AS23: =SUM(AS19:AS22) -> 0 | AV23: =SUM(AV19:AV22) -> 0 | AW23: =SUM(AW19:AW22) -> 0 | AX23: =SUM(AX19:AX22) -> 0 | AY23: =SUM(AY19:AY22) -> 0 | AZ23: =SUM(AZ19:AZ22) -> 0 | BB23: =SUM(BB19:BB22) -> 0 | BE23: =SUM(BE19:BE22) -> 0 | BG23: =SUM(BG19:BG22) -> 0 | BH23: =SUM(BH19:BH22) -> 0 | BI23: =SUM(BI19:BI22) -> 0 | BK23: =SUM(BK19:BK22) -> 0 | BM23: =SUM(BM19:BM22) -> 0 | BP23: =SUM(BP19:BP22) -> 0 | BQ23: =SUM(BQ19:BQ22) -> 0 | BR23: =SUM(BR19:BR22) -> 0 | BS23: =SUM(BS19:BS22) -> 0 | BT23: =SUM(BT19:BT22) -> 0 | BV23: =SUM(BV19:BV22) -> 0 | BY23: =SUM(BY19:BY22) -> 0 | CA23: =SUM(CA19:CA22) -> 0 | CB23: =SUM(CB19:CB22) -> 0 | CC23: =SUM(CC19:CC22) -> 0 | CE23: =SUM(CE19:CE22) -> 0 | CG23: =SUM(CG19:CG22) -> 0 | CJ23: =SUM(CJ19:CJ22) -> 0 | CK23: =SUM(CK19:CK22) -> 0 | CL23: =SUM(CL19:CL22) -> 0 | CM23: =SUM(CM19:CM22) -> 0 | CN23: =SUM(CN19:CN22) -> 0 | CP23: =SUM(CP19:CP22) -> 0 | CS23: =SUM(CS19:CS22) -> 0 | CU23: =SUM(CU19:CU22) -> 0 | CV23: =SUM(CV19:CV22) -> 0 | CW23: =SUM(CW19:CW22) -> 0 | CY23: =SUM(CY19:CY22) -> 0 | DA23: =SUM(DA19:DA22) -> 0 | DD23: =SUM(DD19:DD22) -> 0 | DE23: =SUM(DE19:DE22) -> 0 | DF23: =SUM(DF19:DF22) -> 0 | DG23: =SUM(DG19:DG22) -> 0 | DH23: =SUM(DH19:DH22) -> 0 | DJ23: =SUM(DJ19:DJ22) -> 0 | DM23: =SUM(DM19:DM22) -> 0 | DN23: =SUM(DN19:DN22) -> 0 | DO23: =SUM(DO19:DO22) -> 0 | DP23: =SUM(DP19:DP22) -> 0 | DQ23: =SUM(DQ19:DQ22) -> 0
B25: Total Undergraduate Full-Time | C25: =(C16+C23)/2 -> 0 | F25: =F16+F23/2 -> 0 | H25: =H16+H23 -> 0 | I25: =I16+I23 -> 0 | J25: =J16+J23 -> 0 | L25: =L16+L23 -> 0 | N25: =(N16+N23)/2 -> 0 | Q25: =Q16+Q23 -> 0 | S25: =S16+S23 -> 0 | T25: =T16+T23 -> 0 | U25: =U16+U23 -> 0 | W25: =W16+W23 -> 0 | Y25: =(Y16+Y23)/2 -> 0 | AB25: =AB16+AB23 -> 0 | AC25: =AC16+AC23 -> 0 | AD25: =AD16+AD23 -> 0 | AE25: =AE16+AE23 -> 0 | AF25: =AF16+AF23 -> 0 | AH25: =(AH16+AH23)/2 -> 0 | AK25: =AK16+AK23 -> 0 | AM25: =AM16+AM23 -> 0 | AN25: =AN16+AN23 -> 0 | AO25: =AO16+AO23 -> 0 | AQ25: =AQ16+AQ23 -> 0 | AS25: =(AS16+AS23)/2 -> 0 | AV25: =AV16+AV23 -> 0 | AW25: =AW16+AW23 -> 0 | AX25: =AX16+AX23 -> 0 | AY25: =AY16+AY23 -> 0 | AZ25: =AZ16+AZ23 -> 0 | BB25: =(BB16+BB23)/2 -> 0 | BE25: =BE16+BE23 -> 0 | BG25: =BG16+BG23 -> 0 | BH25: =BH16+BH23 -> 0 | BI25: =BI16+BI23 -> 0 | BK25: =BK16+BK23 -> 0 | BM25: =(BM16+BM23)/2 -> 0 | BP25: =BP16+BP23 -> 0 | BQ25: =BQ16+BQ23 -> 0 | BR25: =BR16+BR23 -> 0 | BS25: =BS16+BS23 -> 0 | BT25: =BT16+BT23 -> 0 | BV25: =(BV16+BV23)/2 -> 0 | BY25: =BY16+BY23 -> 0 | CA25: =CA16+CA23 -> 0 | CB25: =CB16+CB23 -> 0 | CC25: =CC16+CC23 -> 0 | CE25: =CE16+CE23 -> 0 | CG25: =(CG16+CG23)/2 -> 0 | CJ25: =CJ16+CJ23 -> 0 | CK25: =CK16+CK23 -> 0 | CL25: =CL16+CL23 -> 0 | CM25: =CM16+CM23 -> 0 | CN25: =CN16+CN23 -> 0 | CP25: =(CP16+CP23)/2 -> 0 | CS25: =CS16+CS23 -> 0 | CU25: =CU16+CU23 -> 0 | CV25: =CV16+CV23 -> 0 | CW25: =CW16+CW23 -> 0 | CY25: =CY16+CY23 -> 0 | DA25: =(DA16+DA23)/2 -> 0 | DD25: =DD16+DD23 -> 0 | DE25: =DE16+DE23 -> 0 | DF25: =DF16+DF23 -> 0 | DG25: =DG16+DG23 -> 0 | DH25: =DH16+DH23 -> 0 | DJ25: =(DJ16+DJ23)/2 -> 0 | DM25: =DM16+DM23 -> 0 | DN25: =DN16+DN23 -> 0 | DO25: =DO16+DO23 -> 0 | DP25: =DP16+DP23 -> 0 | DQ25: =DQ16+DQ23 -> 0
B27: Undergraduate Part-Time | Revenue Detail
B28: Fall
B29: Freshmen | F29: =C29*(D29*E29) -> 0 | H29: =G29*C29 -> 0 | J29: =F29+H29-I29 -> 0 | L29: =-J29*K29 -> 0 | Q29: =N29*(O29*P29) -> 0 | S29: =R29*N29 -> 0 | U29: =Q29+S29-T29 -> 0 | W29: =U29*-V29 -> 0 | Y29: =N29-C29 -> 0 | Z29: =O29-D29 -> 0 | AA29: =P29-E29 -> 0 | AB29: =Q29-F29 -> 0 | AC29: =S29-H29 -> 0 | AD29: =T29-I29 -> 0 | AE29: =U29-J29 -> 0 | AF29: =W29-L29 -> 0 | AK29: =AH29*(AI29*AJ29) -> 0 | AM29: =AL29*AH29 -> 0 | AO29: =AK29+AM29-AN29 -> 0 | AQ29: =-AO29*AP29 -> 0 | AS29: =AH29-N29 -> 0 | AT29: =AI29-O29 -> 0 | AU29: =AJ29-P29 -> 0 | AV29: =AK29-Q29 -> 0 | AW29: =AM29-S29 -> 0 | AX29: =AN29-T29 -> 0 | AY29: =AO29-U29 -> 0 | AZ29: =AQ29-W29 -> 0 | BE29: =BB29*(BC29*BD29) -> 0 | BG29: =BF29*BB29 -> 0 | BI29: =BE29+BG29-BH29 -> 0 | BK29: =-BI29*BJ29 -> 0 | BM29: =BB29-AH29 -> 0 | BN29: =BC29-AI29 -> 0 | BO29: =BD29-AJ29 -> 0 | BP29: =BE29-AK29 -> 0 | BQ29: =BG29-AM29 -> 0 | BR29: =BH29-AN29 -> 0 | BS29: =BI29-AO29 -> 0 | BT29: =BK29-AQ29 -> 0 | BY29: =BV29*(BW29*BX29) -> 0 | CA29: =BZ29*BV29 -> 0 | CC29: =BY29+CA29-CB29 -> 0 | CE29: =-CC29*CD29 -> 0 | CG29: =BV29-BB29 -> 0 | CH29: =BW29-BC29 -> 0 | CI29: =BX29-BD29 -> 0 | CJ29: =BY29-BE29 -> 0 | CK29: =CA29-BG29 -> 0 | CL29: =CB29-BH29 -> 0 | CM29: =CC29-BI29 -> 0 | CN29: =CE29-BK29 -> 0 | CS29: =CP29*(CQ29*CR29) -> 0 | CU29: =CT29*CP29 -> 0 | CW29: =CS29+CU29-CV29 -> 0 | CY29: =-CW29*CX29 -> 0 | DA29: =CP29-BV29 -> 0 | DB29: =CQ29-BW29 -> 0 | DC29: =CR29-BX29 -> 0 | DD29: =CS29-BY29 -> 0 | DE29: =CU29-CA29 -> 0 | DF29: =CV29-CB29 -> 0 | DG29: =CW29-CC29 -> 0 | DH29: =CY29-CE29 -> 0 | DJ29: =Y29+AS29+BM29+CG29+DA29 -> 0 | DK29: =Z29+AT29+BN29+CH29+DB29 -> 0 | DL29: =AA29+AU29+BO29+CI29+DC29 -> 0 | DM29: =AB29+AV29+BP29+CJ29+DD29 -> 0 | DN29: =AC29+AW29+BQ29+CK29+DE29 -> 0 | DO29: =AD29+AX29+BR29+CL29+DF29 -> 0 | DP29: =AE29+AY29+BS29+CM29+DG29 -> 0 | DQ29: =AF29+AZ29+BT29+CN29+DH29 -> 0
B30: Sophomore | F30: =C30*(D30*E30) -> 0 | H30: =G30*C30 -> 0 | J30: =F30+H30-I30 -> 0 | L30: =-J30*K30 -> 0 | Q30: =N30*(O30*P30) -> 0 | S30: =R30*N30 -> 0 | U30: =Q30+S30-T30 -> 0 | W30: =U30*-V30 -> 0 | Y30: =N30-C30 -> 0 | Z30: =O30-D30 -> 0 | AA30: =P30-E30 -> 0 | AB30: =Q30-F30 -> 0 | AC30: =S30-H30 -> 0 | AD30: =T30-I30 -> 0 | AE30: =U30-J30 -> 0 | AF30: =W30-L30 -> 0 | AK30: =AH30*(AI30*AJ30) -> 0 | AM30: =AL30*AH30 -> 0 | AO30: =AK30+AM30-AN30 -> 0 | AQ30: =-AO30*AP30 -> 0 | AS30: =AH30-N30 -> 0 | AT30: =AI30-O30 -> 0 | AU30: =AJ30-P30 -> 0 | AV30: =AK30-Q30 -> 0 | AW30: =AM30-S30 -> 0 | AX30: =AN30-T30 -> 0 | AY30: =AO30-U30 -> 0 | AZ30: =AQ30-W30 -> 0 | BE30: =BB30*(BC30*BD30) -> 0 | BG30: =BF30*BB30 -> 0 | BI30: =BE30+BG30-BH30 -> 0 | BK30: =-BI30*BJ30 -> 0 | BM30: =BB30-AH30 -> 0 | BN30: =BC30-AI30 -> 0 | BO30: =BD30-AJ30 -> 0 | BP30: =BE30-AK30 -> 0 | BQ30: =BG30-AM30 -> 0 | BR30: =BH30-AN30 -> 0 | BS30: =BI30-AO30 -> 0 | BT30: =BK30-AQ30 -> 0 | BY30: =BV30*(BW30*BX30) -> 0 | CA30: =BZ30*BV30 -> 0 | CC30: =BY30+CA30-CB30 -> 0 | CE30: =-CC30*CD30 -> 0 | CG30: =BV30-BB30 -> 0 | CH30: =BW30-BC30 -> 0 | CI30: =BX30-BD30 -> 0 | CJ30: =BY30-BE30 -> 0 | CK30: =CA30-BG30 -> 0 | CL30: =CB30-BH30 -> 0 | CM30: =CC30-BI30 -> 0 | CN30: =CE30-BK30 -> 0 | CS30: =CP30*(CQ30*CR30) -> 0 | CU30: =CT30*CP30 -> 0 | CW30: =CS30+CU30-CV30 -> 0 | CY30: =-CW30*CX30 -> 0 | DA30: =CP30-BV30 -> 0 | DB30: =CQ30-BW30 -> 0 | DC30: =CR30-BX30 -> 0 | DD30: =CS30-BY30 -> 0 | DE30: =CU30-CA30 -> 0 | DF30: =CV30-CB30 -> 0 | DG30: =CW30-CC30 -> 0 | DH30: =CY30-CE30 -> 0 | DJ30: =Y30+AS30+BM30+CG30+DA30 -> 0 | DK30: =Z30+AT30+BN30+CH30+DB30 -> 0 | DL30: =AA30+AU30+BO30+CI30+DC30 -> 0 | DM30: =AB30+AV30+BP30+CJ30+DD30 -> 0 | DN30: =AC30+AW30+BQ30+CK30+DE30 -> 0 | DO30: =AD30+AX30+BR30+CL30+DF30 -> 0 | DP30: =AE30+AY30+BS30+CM30+DG30 -> 0 | DQ30: =AF30+AZ30+BT30+CN30+DH30 -> 0
B31: Junior | F31: =C31*(D31*E31) -> 0 | H31: =G31*C31 -> 0 | J31: =F31+H31-I31 -> 0 | L31: =-J31*K31 -> 0 | Q31: =N31*(O31*P31) -> 0 | S31: =R31*N31 -> 0 | U31: =Q31+S31-T31 -> 0 | W31: =U31*-V31 -> 0 | Y31: =N31-C31 -> 0 | Z31: =O31-D31 -> 0 | AA31: =P31-E31 -> 0 | AB31: =Q31-F31 -> 0 | AC31: =S31-H31 -> 0 | AD31: =T31-I31 -> 0 | AE31: =U31-J31 -> 0 | AF31: =W31-L31 -> 0 | AK31: =AH31*(AI31*AJ31) -> 0 | AM31: =AL31*AH31 -> 0 | AO31: =AK31+AM31-AN31 -> 0 | AQ31: =-AO31*AP31 -> 0 | AS31: =AH31-N31 -> 0 | AT31: =AI31-O31 -> 0 | AU31: =AJ31-P31 -> 0 | AV31: =AK31-Q31 -> 0 | AW31: =AM31-S31 -> 0 | AX31: =AN31-T31 -> 0 | AY31: =AO31-U31 -> 0 | AZ31: =AQ31-W31 -> 0 | BE31: =BB31*(BC31*BD31) -> 0 | BG31: =BF31*BB31 -> 0 | BI31: =BE31+BG31-BH31 -> 0 | BK31: =-BI31*BJ31 -> 0 | BM31: =BB31-AH31 -> 0 | BN31: =BC31-AI31 -> 0 | BO31: =BD31-AJ31 -> 0 | BP31: =BE31-AK31 -> 0 | BQ31: =BG31-AM31 -> 0 | BR31: =BH31-AN31 -> 0 | BS31: =BI31-AO31 -> 0 | BT31: =BK31-AQ31 -> 0 | BY31: =BV31*(BW31*BX31) -> 0 | CA31: =BZ31*BV31 -> 0 | CC31: =BY31+CA31-CB31 -> 0 | CE31: =-CC31*CD31 -> 0 | CG31: =BV31-BB31 -> 0 | CH31: =BW31-BC31 -> 0 | CI31: =BX31-BD31 -> 0 | CJ31: =BY31-BE31 -> 0 | CK31: =CA31-BG31 -> 0 | CL31: =CB31-BH31 -> 0 | CM31: =CC31-BI31 -> 0 | CN31: =CE31-BK31 -> 0 | CS31: =CP31*(CQ31*CR31) -> 0 | CU31: =CT31*CP31 -> 0 | CW31: =CS31+CU31-CV31 -> 0 | CY31: =-CW31*CX31 -> 0 | DA31: =CP31-BV31 -> 0 | DB31: =CQ31-BW31 -> 0 | DC31: =CR31-BX31 -> 0 | DD31: =CS31-BY31 -> 0 | DE31: =CU31-CA31 -> 0 | DF31: =CV31-CB31 -> 0 | DG31: =CW31-CC31 -> 0 | DH31: =CY31-CE31 -> 0 | DJ31: =Y31+AS31+BM31+CG31+DA31 -> 0 | DK31: =Z31+AT31+BN31+CH31+DB31 -> 0 | DL31: =AA31+AU31+BO31+CI31+DC31 -> 0 | DM31: =AB31+AV31+BP31+CJ31+DD31 -> 0 | DN31: =AC31+AW31+BQ31+CK31+DE31 -> 0 | DO31: =AD31+AX31+BR31+CL31+DF31 -> 0 | DP31: =AE31+AY31+BS31+CM31+DG31 -> 0 | DQ31: =AF31+AZ31+BT31+CN31+DH31 -> 0
B32: Senior | F32: =C32*(D32*E32) -> 0 | H32: =G32*C32 -> 0 | J32: =F32+H32-I32 -> 0 | L32: =-J32*K32 -> 0 | Q32: =N32*(O32*P32) -> 0 | S32: =R32*N32 -> 0 | U32: =Q32+S32-T32 -> 0 | W32: =U32*-V32 -> 0 | Y32: =N32-C32 -> 0 | Z32: =O32-D32 -> 0 | AA32: =P32-E32 -> 0 | AB32: =Q32-F32 -> 0 | AC32: =S32-H32 -> 0 | AD32: =T32-I32 -> 0 | AE32: =U32-J32 -> 0 | AF32: =W32-L32 -> 0 | AK32: =AH32*(AI32*AJ32) -> 0 | AM32: =AL32*AH32 -> 0 | AO32: =AK32+AM32-AN32 -> 0 | AQ32: =-AO32*AP32 -> 0 | AS32: =AH32-N32 -> 0 | AT32: =AI32-O32 -> 0 | AU32: =AJ32-P32 -> 0 | AV32: =AK32-Q32 -> 0 | AW32: =AM32-S32 -> 0 | AX32: =AN32-T32 -> 0 | AY32: =AO32-U32 -> 0 | AZ32: =AQ32-W32 -> 0 | BE32: =BB32*(BC32*BD32) -> 0 | BG32: =BF32*BB32 -> 0 | BI32: =BE32+BG32-BH32 -> 0 | BK32: =-BI32*BJ32 -> 0 | BM32: =BB32-AH32 -> 0 | BN32: =BC32-AI32 -> 0 | BO32: =BD32-AJ32 -> 0 | BP32: =BE32-AK32 -> 0 | BQ32: =BG32-AM32 -> 0 | BR32: =BH32-AN32 -> 0 | BS32: =BI32-AO32 -> 0 | BT32: =BK32-AQ32 -> 0 | BY32: =BV32*(BW32*BX32) -> 0 | CA32: =BZ32*BV32 -> 0 | CC32: =BY32+CA32-CB32 -> 0 | CE32: =-CC32*CD32 -> 0 | CG32: =BV32-BB32 -> 0 | CH32: =BW32-BC32 -> 0 | CI32: =BX32-BD32 -> 0 | CJ32: =BY32-BE32 -> 0 | CK32: =CA32-BG32 -> 0 | CL32: =CB32-BH32 -> 0 | CM32: =CC32-BI32 -> 0 | CN32: =CE32-BK32 -> 0 | CS32: =CP32*(CQ32*CR32) -> 0 | CU32: =CT32*CP32 -> 0 | CW32: =CS32+CU32-CV32 -> 0 | CY32: =-CW32*CX32 -> 0 | DA32: =CP32-BV32 -> 0 | DB32: =CQ32-BW32 -> 0 | DC32: =CR32-BX32 -> 0 | DD32: =CS32-BY32 -> 0 | DE32: =CU32-CA32 -> 0 | DF32: =CV32-CB32 -> 0 | DG32: =CW32-CC32 -> 0 | DH32: =CY32-CE32 -> 0 | DJ32: =Y32+AS32+BM32+CG32+DA32 -> 0 | DK32: =Z32+AT32+BN32+CH32+DB32 -> 0 | DL32: =AA32+AU32+BO32+CI32+DC32 -> 0 | DM32: =AB32+AV32+BP32+CJ32+DD32 -> 0 | DN32: =AC32+AW32+BQ32+CK32+DE32 -> 0 | DO32: =AD32+AX32+BR32+CL32+DF32 -> 0 | DP32: =AE32+AY32+BS32+CM32+DG32 -> 0 | DQ32: =AF32+AZ32+BT32+CN32+DH32 -> 0
B33: Total Fall | C33: =SUM(C29:C32) -> 0 | F33: =SUM(F29:F32) -> 0 | H33: =SUM(H29:H32) -> 0 | I33: =SUM(I29:I32) -> 0 | J33: =SUM(J29:J32) -> 0 | L33: =SUM(L29:L32) -> 0 | N33: =SUM(N29:N32) -> 0 | Q33: =SUM(Q29:Q32) -> 0 | S33: =SUM(S29:S32) -> 0 | T33: =SUM(T29:T32) -> 0 | U33: =SUM(U29:U32) -> 0 | W33: =SUM(W29:W32) -> 0 | Y33: =SUM(Y29:Y32) -> 0 | AB33: =SUM(AB29:AB32) -> 0 | AC33: =SUM(AC29:AC32) -> 0 | AD33: =SUM(AD29:AD32) -> 0 | AE33: =SUM(AE29:AE32) -> 0 | AF33: =SUM(AF29:AF32) -> 0 | AH33: =SUM(AH29:AH32) -> 0 | AK33: =SUM(AK29:AK32) -> 0 | AM33: =SUM(AM29:AM32) -> 0 | AN33: =SUM(AN29:AN32) -> 0 | AO33: =SUM(AO29:AO32) -> 0 | AQ33: =SUM(AQ29:AQ32) -> 0 | AS33: =SUM(AS29:AS32) -> 0 | AV33: =SUM(AV29:AV32) -> 0 | AW33: =SUM(AW29:AW32) -> 0 | AX33: =SUM(AX29:AX32) -> 0 | AY33: =SUM(AY29:AY32) -> 0 | AZ33: =SUM(AZ29:AZ32) -> 0 | BB33: =SUM(BB29:BB32) -> 0 | BE33: =SUM(BE29:BE32) -> 0 | BG33: =SUM(BG29:BG32) -> 0 | BH33: =SUM(BH29:BH32) -> 0 | BI33: =SUM(BI29:BI32) -> 0 | BK33: =SUM(BK29:BK32) -> 0 | BM33: =SUM(BM29:BM32) -> 0 | BP33: =SUM(BP29:BP32) -> 0 | BQ33: =SUM(BQ29:BQ32) -> 0 | BR33: =SUM(BR29:BR32) -> 0 | BS33: =SUM(BS29:BS32) -> 0 | BT33: =SUM(BT29:BT32) -> 0 | BV33: =SUM(BV29:BV32) -> 0 | BY33: =SUM(BY29:BY32) -> 0 | CA33: =SUM(CA29:CA32) -> 0 | CB33: =SUM(CB29:CB32) -> 0 | CC33: =SUM(CC29:CC32) -> 0 | CE33: =SUM(CE29:CE32) -> 0 | CG33: =SUM(CG29:CG32) -> 0 | CJ33: =SUM(CJ29:CJ32) -> 0 | CK33: =SUM(CK29:CK32) -> 0 | CL33: =SUM(CL29:CL32) -> 0 | CM33: =SUM(CM29:CM32) -> 0 | CN33: =SUM(CN29:CN32) -> 0 | CP33: =SUM(CP29:CP32) -> 0 | CS33: =SUM(CS29:CS32) -> 0 | CU33: =SUM(CU29:CU32) -> 0 | CV33: =SUM(CV29:CV32) -> 0 | CW33: =SUM(CW29:CW32) -> 0 | CY33: =SUM(CY29:CY32) -> 0 | DA33: =SUM(DA29:DA32) -> 0 | DD33: =SUM(DD29:DD32) -> 0 | DE33: =SUM(DE29:DE32) -> 0 | DF33: =SUM(DF29:DF32) -> 0 | DG33: =SUM(DG29:DG32) -> 0 | DH33: =SUM(DH29:DH32) -> 0 | DJ33: =SUM(DJ29:DJ32) -> 0 | DM33: =SUM(DM29:DM32) -> 0 | DN33: =SUM(DN29:DN32) -> 0 | DO33: =SUM(DO29:DO32) -> 0 | DP33: =SUM(DP29:DP32) -> 0 | DQ33: =SUM(DQ29:DQ32) -> 0
B35: Spring
B36: Freshmen | F36: =C36*(D36*E36) -> 0 | H36: =G36*C36 -> 0 | J36: =F36+H36-I36 -> 0 | L36: =-J36*K36 -> 0 | Q36: =N36*(O36*P36) -> 0 | S36: =R36*N36 -> 0 | U36: =Q36+S36-T36 -> 0 | W36: =U36*-V36 -> 0 | Y36: =N36-C36 -> 0 | Z36: =O36-D36 -> 0 | AA36: =P36-E36 -> 0 | AB36: =Q36-F36 -> 0 | AC36: =S36-H36 -> 0 | AD36: =T36-I36 -> 0 | AE36: =U36-J36 -> 0 | AF36: =W36-L36 -> 0 | AK36: =AH36*(AI36*AJ36) -> 0 | AM36: =AL36*AH36 -> 0 | AO36: =AK36+AM36-AN36 -> 0 | AQ36: =-AO36*AP36 -> 0 | AS36: =AH36-N36 -> 0 | AT36: =AI36-O36 -> 0 | AU36: =AJ36-P36 -> 0 | AV36: =AK36-Q36 -> 0 | AW36: =AM36-S36 -> 0 | AX36: =AN36-T36 -> 0 | AY36: =AO36-U36 -> 0 | AZ36: =AQ36-W36 -> 0 | BE36: =BB36*(BC36*BD36) -> 0 | BG36: =BF36*BB36 -> 0 | BI36: =BE36+BG36-BH36 -> 0 | BK36: =-BI36*BJ36 -> 0 | BM36: =BB36-AH36 -> 0 | BN36: =BC36-AI36 -> 0 | BO36: =BD36-AJ36 -> 0 | BP36: =BE36-AK36 -> 0 | BQ36: =BG36-AM36 -> 0 | BR36: =BH36-AN36 -> 0 | BS36: =BI36-AO36 -> 0 | BT36: =BK36-AQ36 -> 0 | BY36: =BV36*(BW36*BX36) -> 0 | CA36: =BZ36*BV36 -> 0 | CC36: =BY36+CA36-CB36 -> 0 | CE36: =-CC36*CD36 -> 0 | CG36: =BV36-BB36 -> 0 | CH36: =BW36-BC36 -> 0 | CI36: =BX36-BD36 -> 0 | CJ36: =BY36-BE36 -> 0 | CK36: =CA36-BG36 -> 0 | CL36: =CB36-BH36 -> 0 | CM36: =CC36-BI36 -> 0 | CN36: =CE36-BK36 -> 0 | CS36: =CP36*(CQ36*CR36) -> 0 | CU36: =CT36*CP36 -> 0 | CW36: =CS36+CU36-CV36 -> 0 | CY36: =-CW36*CX36 -> 0 | DA36: =CP36-BV36 -> 0 | DB36: =CQ36-BW36 -> 0 | DC36: =CR36-BX36 -> 0 | DD36: =CS36-BY36 -> 0 | DE36: =CU36-CA36 -> 0 | DF36: =CV36-CB36 -> 0 | DG36: =CW36-CC36 -> 0 | DH36: =CY36-CE36 -> 0 | DJ36: =Y36+AS36+BM36+CG36+DA36 -> 0 | DK36: =Z36+AT36+BN36+CH36+DB36 -> 0 | DL36: =AA36+AU36+BO36+CI36+DC36 -> 0 | DM36: =AB36+AV36+BP36+CJ36+DD36 -> 0 | DN36: =AC36+AW36+BQ36+CK36+DE36 -> 0 | DO36: =AD36+AX36+BR36+CL36+DF36 -> 0 | DP36: =AE36+AY36+BS36+CM36+DG36 -> 0 | DQ36: =AF36+AZ36+BT36+CN36+DH36 -> 0
B37: Sophomore | F37: =C37*(D37*E37) -> 0 | H37: =G37*C37 -> 0 | J37: =F37+H37-I37 -> 0 | L37: =-J37*K37 -> 0 | Q37: =N37*(O37*P37) -> 0 | S37: =R37*N37 -> 0 | U37: =Q37+S37-T37 -> 0 | W37: =U37*-V37 -> 0 | Y37: =N37-C37 -> 0 | Z37: =O37-D37 -> 0 | AA37: =P37-E37 -> 0 | AB37: =Q37-F37 -> 0 | AC37: =S37-H37 -> 0 | AD37: =T37-I37 -> 0 | AE37: =U37-J37 -> 0 | AF37: =W37-L37 -> 0 | AK37: =AH37*(AI37*AJ37) -> 0 | AM37: =AL37*AH37 -> 0 | AO37: =AK37+AM37-AN37 -> 0 | AQ37: =-AO37*AP37 -> 0 | AS37: =AH37-N37 -> 0 | AT37: =AI37-O37 -> 0 | AU37: =AJ37-P37 -> 0 | AV37: =AK37-Q37 -> 0 | AW37: =AM37-S37 -> 0 | AX37: =AN37-T37 -> 0 | AY37: =AO37-U37 -> 0 | AZ37: =AQ37-W37 -> 0 | BE37: =BB37*(BC37*BD37) -> 0 | BG37: =BF37*BB37 -> 0 | BI37: =BE37+BG37-BH37 -> 0 | BK37: =-BI37*BJ37 -> 0 | BM37: =BB37-AH37 -> 0 | BN37: =BC37-AI37 -> 0 | BO37: =BD37-AJ37 -> 0 | BP37: =BE37-AK37 -> 0 | BQ37: =BG37-AM37 -> 0 | BR37: =BH37-AN37 -> 0 | BS37: =BI37-AO37 -> 0 | BT37: =BK37-AQ37 -> 0 | BY37: =BV37*(BW37*BX37) -> 0 | CA37: =BZ37*BV37 -> 0 | CC37: =BY37+CA37-CB37 -> 0 | CE37: =-CC37*CD37 -> 0 | CG37: =BV37-BB37 -> 0 | CH37: =BW37-BC37 -> 0 | CI37: =BX37-BD37 -> 0 | CJ37: =BY37-BE37 -> 0 | CK37: =CA37-BG37 -> 0 | CL37: =CB37-BH37 -> 0 | CM37: =CC37-BI37 -> 0 | CN37: =CE37-BK37 -> 0 | CS37: =CP37*(CQ37*CR37) -> 0 | CU37: =CT37*CP37 -> 0 | CW37: =CS37+CU37-CV37 -> 0 | CY37: =-CW37*CX37 -> 0 | DA37: =CP37-BV37 -> 0 | DB37: =CQ37-BW37 -> 0 | DC37: =CR37-BX37 -> 0 | DD37: =CS37-BY37 -> 0 | DE37: =CU37-CA37 -> 0 | DF37: =CV37-CB37 -> 0 | DG37: =CW37-CC37 -> 0 | DH37: =CY37-CE37 -> 0 | DJ37: =Y37+AS37+BM37+CG37+DA37 -> 0 | DK37: =Z37+AT37+BN37+CH37+DB37 -> 0 | DL37: =AA37+AU37+BO37+CI37+DC37 -> 0 | DM37: =AB37+AV37+BP37+CJ37+DD37 -> 0 | DN37: =AC37+AW37+BQ37+CK37+DE37 -> 0 | DO37: =AD37+AX37+BR37+CL37+DF37 -> 0 | DP37: =AE37+AY37+BS37+CM37+DG37 -> 0 | DQ37: =AF37+AZ37+BT37+CN37+DH37 -> 0
B38: Junior | F38: =C38*(D38*E38) -> 0 | H38: =G38*C38 -> 0 | J38: =F38+H38-I38 -> 0 | L38: =-J38*K38 -> 0 | Q38: =N38*(O38*P38) -> 0 | S38: =R38*N38 -> 0 | U38: =Q38+S38-T38 -> 0 | W38: =U38*-V38 -> 0 | Y38: =N38-C38 -> 0 | Z38: =O38-D38 -> 0 | AA38: =P38-E38 -> 0 | AB38: =Q38-F38 -> 0 | AC38: =S38-H38 -> 0 | AD38: =T38-I38 -> 0 | AE38: =U38-J38 -> 0 | AF38: =W38-L38 -> 0 | AK38: =AH38*(AI38*AJ38) -> 0 | AM38: =AL38*AH38 -> 0 | AO38: =AK38+AM38-AN38 -> 0 | AQ38: =-AO38*AP38 -> 0 | AS38: =AH38-N38 -> 0 | AT38: =AI38-O38 -> 0 | AU38: =AJ38-P38 -> 0 | AV38: =AK38-Q38 -> 0 | AW38: =AM38-S38 -> 0 | AX38: =AN38-T38 -> 0 | AY38: =AO38-U38 -> 0 | AZ38: =AQ38-W38 -> 0 | BE38: =BB38*(BC38*BD38) -> 0 | BG38: =BF38*BB38 -> 0 | BI38: =BE38+BG38-BH38 -> 0 | BK38: =-BI38*BJ38 -> 0 | BM38: =BB38-AH38 -> 0 | BN38: =BC38-AI38 -> 0 | BO38: =BD38-AJ38 -> 0 | BP38: =BE38-AK38 -> 0 | BQ38: =BG38-AM38 -> 0 | BR38: =BH38-AN38 -> 0 | BS38: =BI38-AO38 -> 0 | BT38: =BK38-AQ38 -> 0 | BY38: =BV38*(BW38*BX38) -> 0 | CA38: =BZ38*BV38 -> 0 | CC38: =BY38+CA38-CB38 -> 0 | CE38: =-CC38*CD38 -> 0 | CG38: =BV38-BB38 -> 0 | CH38: =BW38-BC38 -> 0 | CI38: =BX38-BD38 -> 0 | CJ38: =BY38-BE38 -> 0 | CK38: =CA38-BG38 -> 0 | CL38: =CB38-BH38 -> 0 | CM38: =CC38-BI38 -> 0 | CN38: =CE38-BK38 -> 0 | CS38: =CP38*(CQ38*CR38) -> 0 | CU38: =CT38*CP38 -> 0 | CW38: =CS38+CU38-CV38 -> 0 | CY38: =-CW38*CX38 -> 0 | DA38: =CP38-BV38 -> 0 | DB38: =CQ38-BW38 -> 0 | DC38: =CR38-BX38 -> 0 | DD38: =CS38-BY38 -> 0 | DE38: =CU38-CA38 -> 0 | DF38: =CV38-CB38 -> 0 | DG38: =CW38-CC38 -> 0 | DH38: =CY38-CE38 -> 0 | DJ38: =Y38+AS38+BM38+CG38+DA38 -> 0 | DK38: =Z38+AT38+BN38+CH38+DB38 -> 0 | DL38: =AA38+AU38+BO38+CI38+DC38 -> 0 | DM38: =AB38+AV38+BP38+CJ38+DD38 -> 0 | DN38: =AC38+AW38+BQ38+CK38+DE38 -> 0 | DO38: =AD38+AX38+BR38+CL38+DF38 -> 0 | DP38: =AE38+AY38+BS38+CM38+DG38 -> 0 | DQ38: =AF38+AZ38+BT38+CN38+DH38 -> 0
